BEGIN:VCALENDAR
VERSION:2.0
PRODID:-//ChamberMaster//Event Calendar 2.0//EN
METHOD:PUBLISH
X-PUBLISHED-TTL:P3D
REFRESH-INTERVAL:P3D
CALSCALE:GREGORIAN
BEGIN:VEVENT
DTSTART;VALUE=DATE:20170924
DTEND;VALUE=DATE:20170925
TRANSP:TRANSPARENT
X-MICROSOFT-CDO-ALLDAYEVENT:TRUE
SUMMARY:Central Florida Cruisers Inc. 9th Annual Golf Tournament
DESCRIPTION:12:00 pm Shotgun Start - 4 Person Scramble\n\nEveryone Welcome\n\n$60.00 per player includes:\n\n($65.00 at the door)\n\nGolf\, Cart\, Door Prizes\, Silent and Live Auctions\n\nSteak Dinner & Entertainment\n\n@ The American Legion 920 Highland Ave\, Mount Dora\n\nMulligans available for $$\n\n$10\,000.00 hole in one\n\nSponsored by: 7-Eleven Diane & Frankie Wight\n\nPGA card holders or previous PGA card holder not eligible\n\nCash Prizes for 1st\, 2nd\, 3rd Place Teams\n\nClosest to the Pin & Longest Drive\n\n50/50 Drawing\n\nGather your 4 person team and sign up today!\n\nIndividuals welcome. We'll place you on a team.
X-ALT-DESC;FMTTYPE=text/html:12:00 pm&nbsp\;Shotgun Start - 4 Person Scramble<br />\nEveryone Welcome<br />\n$60.00 per player includes:<br />\n($65.00 at the door)<br />\nGolf\, Cart\, Door Prizes\, Silent and Live Auctions<br />\nSteak Dinner &amp\; Entertainment<br />\n@ The American Legion 920 Highland Ave\, Mount Dora<br />\nMulligans available for $$<br />\n$10\,000.00 hole in one<br />\nSponsored by: 7-Eleven Diane &amp\; Frankie Wight<br />\nPGA card holders or previous PGA card holder not eligible<br />\nCash Prizes for 1st\, 2nd\, 3rd Place Teams<br />\nClosest to the Pin &amp\; Longest Drive<br />\n50/50 Drawing<br />\nGather your 4 person team and sign up today!<br />\nIndividuals welcome. We&#39\;ll place you on a team.
LOCATION:Eagle Dunes Golf Club 24000 Marbella Dr Sorrento\, FL
UID:e.2610.1194
SEQUENCE:3
DTSTAMP:20260424T200104Z
URL:https://eustischamber-gzcms.preview.gochambermaster.com/events/details/central-florida-cruisers-inc-9th-annual-golf-tournament-1194
END:VEVENT

END:VCALENDAR
