BEGIN:VCALENDAR
VERSION:2.0
PRODID:-//ChamberMaster//Event Calendar 2.0//EN
METHOD:PUBLISH
X-PUBLISHED-TTL:P3D
REFRESH-INTERVAL:P3D
CALSCALE:GREGORIAN
BEGIN:VEVENT
DTSTART:20200202T170000Z
DTEND:20200202T180000Z
X-MICROSOFT-CDO-ALLDAYEVENT:FALSE
SUMMARY:Horses With A Mission Ribbon Cutting
DESCRIPTION:Accessible Homes of Florida LLC is proud to announce the ribbon cutting at the New Equestrian Ramp\, that Vickie D'Angelo had commissioned by Accessible Homes of Florida to build. We are honored as Mr. & Mrs. Santa Clause will be attending as Sponsor's for Wheelchairs4Kids Foundation\, as well as Michele Ladd\, Founder of National Veteran Resources.
X-ALT-DESC;FMTTYPE=text/html:Accessible Homes of Florida LLC is proud to announce the ribbon cutting at the New Equestrian Ramp\, that Vickie D&#39\;Angelo had commissioned by Accessible Homes of Florida to build. We are honored as Mr. &amp\; Mrs. Santa Clause will be attending as Sponsor&#39\;s for Wheelchairs4Kids Foundation\, as well as Michele Ladd\, Founder of National Veteran Resources.&nbsp\;
LOCATION:12311 Spikeys Lane Groveland\, FL 34736
UID:e.2610.3644
SEQUENCE:3
DTSTAMP:20260421T091647Z
URL:https://eustischamber-gzcms.preview.gochambermaster.com/events/details/horses-with-a-mission-ribbon-cutting-3644
END:VEVENT

END:VCALENDAR
