BEGIN:VCALENDAR
VERSION:2.0
PRODID:-//ChamberMaster//Event Calendar 2.0//EN
METHOD:PUBLISH
X-PUBLISHED-TTL:P3D
REFRESH-INTERVAL:P3D
CALSCALE:GREGORIAN
BEGIN:VEVENT
DTSTART:20170112T121500Z
DTEND:20170112T133000Z
X-MICROSOFT-CDO-ALLDAYEVENT:FALSE
SUMMARY:January 2017 Monthly Breakfast
DESCRIPTION:This Month's Breakfast is sponsored by the City of Eustis with City Manager Ron Neibert giving an update on changes in the Community.
X-ALT-DESC;FMTTYPE=text/html:This Month&#39\;s Breakfast is sponsored by the City of Eustis with City Manager Ron Neibert giving an update on changes in the Community.&nbsp\;
LOCATION:Eustis Community Center 601 Northshore Dr. Eustis FL 32726
UID:e.2610.21
SEQUENCE:3
DTSTAMP:20260425T224210Z
URL:https://eustischamber-gzcms.preview.gochambermaster.com/events/details/january-2017-monthly-breakfast-21
END:VEVENT

END:VCALENDAR
