BEGIN:VCALENDAR
VERSION:2.0
PRODID:-//ChamberMaster//Event Calendar 2.0//EN
METHOD:PUBLISH
X-PUBLISHED-TTL:P3D
REFRESH-INTERVAL:P3D
CALSCALE:GREGORIAN
BEGIN:VEVENT
DTSTART:20190205T130000Z
DTEND:20190205T143000Z
X-MICROSOFT-CDO-ALLDAYEVENT:FALSE
SUMMARY:Lake County Agency for Economic Prosperity Open House
DESCRIPTION:The Agency for Economic Prosperity would like to invite you to an open house on February 5\, 2019 from 8:00 AM   9:30 AM. You'll have the opportunity to see our new location\, meet our team\, and learn more about our mission to support Lake County businesses and visitors. Please RSVP to ajohnson@lakecountyfl.gov by January 24\, 2019
X-ALT-DESC;FMTTYPE=text/html:The Agency for Economic Prosperity would like to invite you to an open house on February 5\, 2019 from 8:00 AM &ndash\; 9:30 AM. You&rsquo\;ll have the opportunity to see our new location\, meet our team\, and learn more about our mission to support Lake County businesses and visitors. Please RSVP to ajohnson@lakecountyfl.gov by January 24\, 2019
LOCATION:20763 U.S. Highway 27\, Groveland\, FL 34736
UID:e.2610.3244
SEQUENCE:3
DTSTAMP:20260422T214828Z
URL:https://eustischamber-gzcms.preview.gochambermaster.com/events/details/lake-county-agency-for-economic-prosperity-open-house-3244
END:VEVENT

END:VCALENDAR
