BEGIN:VCALENDAR
VERSION:2.0
PRODID:-//ChamberMaster//Event Calendar 2.0//EN
METHOD:PUBLISH
X-PUBLISHED-TTL:P3D
REFRESH-INTERVAL:P3D
CALSCALE:GREGORIAN
BEGIN:VEVENT
DTSTART:20180413T214500Z
DTEND:20180414T013000Z
X-MICROSOFT-CDO-ALLDAYEVENT:FALSE
SUMMARY:Movie Night
DESCRIPTION:Faith Lutheran Church and School at 2727 S. Grove Street in Eustis will be hosting a FREE Movie Night on Friday\, April 13th in the School gym. Doors open at 5:45 pm and a FREE dinner of spaghetti\, salad\, Italian bread\, drinks and ice cream will be served at 6 pm. Guests will have their choice of three movies: "COCO"\, "THE JUSTICE LEAGUE' or 'GIFTED.' All children must be accompanied by an adult. Children may wish to bring mats for viewing the movie.
X-ALT-DESC;FMTTYPE=text/html:Faith Lutheran Church and School at 2727 S. Grove Street in Eustis will be hosting a FREE Movie Night on Friday\, April 13th in the School gym. Doors open at 5:45 pm and a FREE dinner of spaghetti\, salad\, Italian bread\, drinks and ice cream will be served at 6 pm. Guests will have their choice of three movies: &quot\;COCO&quot\;\, &quot\;THE JUSTICE LEAGUE&#39\; or &#39\;GIFTED.&#39\; All children must be accompanied by an adult. Children may wish to bring mats for viewing the movie.
LOCATION:2727 S. Grove St\, Eustis School Gym
UID:e.2610.2217
SEQUENCE:3
DTSTAMP:20260423T223536Z
URL:https://eustischamber-gzcms.preview.gochambermaster.com/events/details/movie-night-2217
END:VEVENT

END:VCALENDAR
