BEGIN:VCALENDAR
VERSION:2.0
PRODID:-//ChamberMaster//Event Calendar 2.0//EN
METHOD:PUBLISH
X-PUBLISHED-TTL:P3D
REFRESH-INTERVAL:P3D
CALSCALE:GREGORIAN
BEGIN:VEVENT
DTSTART:20200520T230000Z
DTEND:20200521T010000Z
X-MICROSOFT-CDO-ALLDAYEVENT:FALSE
SUMMARY:Simplified Business Plan Preparation
DESCRIPTION:Nothing is more fundamental to business success than planning. While a Business Plan is essential when seeking funding\, its greatest value lies in helping you develop your thinking on the many\, many challenges you will face. Just as a gemstone has multiple facets that interact with each other to create a dazzling impact\, so too a successful business has a great many facets that must all work together to achieve a beautiful whole. Attend this webinar to learn how to efficiently create your business plan\, and the rationale for revisiting it routinely as you and your business evolve throughout the life of your business.
X-ALT-DESC;FMTTYPE=text/html:Nothing is more fundamental to business success than planning. While a Business Plan is essential when seeking funding\, its greatest value lies in helping you develop your thinking on the many\, many challenges you will face. Just as a gemstone has multiple facets that interact with each other to create a dazzling impact\, so too a successful business has a great many facets that must all work together to achieve a beautiful whole. Attend this webinar to learn how to efficiently create your business plan\, and the rationale for revisiting it routinely as you and your business evolve throughout the life of your business.
LOCATION:online
UID:e.2610.3658
SEQUENCE:3
DTSTAMP:20260420T211357Z
URL:https://eustischamber-gzcms.preview.gochambermaster.com/events/details/simplified-business-plan-preparation-3658
END:VEVENT

END:VCALENDAR
