BEGIN:VCALENDAR
VERSION:2.0
PRODID:-//ChamberMaster//Event Calendar 2.0//EN
METHOD:PUBLISH
X-PUBLISHED-TTL:P3D
REFRESH-INTERVAL:P3D
CALSCALE:GREGORIAN
BEGIN:VEVENT
DTSTART:20200519T160000Z
DTEND:20200519T163000Z
X-MICROSOFT-CDO-ALLDAYEVENT:FALSE
SUMMARY:Virtual Information Session
DESCRIPTION:Are you looking for a lunch-time virtual learning opportunity? Or a quick info session at the end of the day? \n\nWith so much market and economic uncertainty\, it can be difficult to stay focused on your long-term goals. Join us Tuesday the 19th at either noon or 5:30 for our Edward Jones Perspective presentation\, as we look at behaviors and actions widely consistent among successful investors.\n\nWe leverage a WebEx platform\, so just call the office or send your name and contact info to diane.thomas@edwardjones.com and we'll send you the link!
X-ALT-DESC;FMTTYPE=text/html:<span style="background-color:transparent\; color:rgb(28\, 30\, 33)\; font-family:helvetica\,arial\,sans-serif\; font-size:14px">Are you looking for a lunch-time virtual learning opportunity? Or a quick info session at the end of the day? </span><br />\n<span style="background-color:transparent\; color:rgb(28\, 30\, 33)\; font-family:helvetica\,arial\,sans-serif\; font-size:14px">With so much market and economic uncertainty\, it can be difficult to stay focused on your long-term goals. Join us Tuesday the 19th at either noon or 5:30 for our Edward Jones Perspective presentation\, as we look at behaviors and actions widely consistent among successful investors.</span><br />\n<span style="background-color:transparent\; color:rgb(28\, 30\, 33)\; font-family:helvetica\,arial\,sans-serif\; font-size:14px">We leverage a WebEx platform\, so just call the office or send your name and contact info to diane.thomas@edwardjones.com and we&#39\;ll send you the link!</span>
LOCATION:
UID:e.2610.3661
SEQUENCE:3
DTSTAMP:20260420T211353Z
URL:https://eustischamber-gzcms.preview.gochambermaster.com/events/details/virtual-information-session-3661
END:VEVENT

END:VCALENDAR
